BEGIN:VCALENDAR
VERSION:2.0
PRODID:-//Sportlomo Events//EN
CALSCALE:GREGORIAN
METHOD:REQUEST
BEGIN:VEVENT
UID:https://oldbelvedere.ie-sportlomo-3605@oldbelvedere.ie
DTSTAMP:20260420T232925Z
DTSTART:20250627T110000Z
DTEND:20250627T130000Z
SUMMARY:Men's Shed: Unveiling of Plaque and Tree of Remembrance
END:VEVENT
END:VCALENDAR