BEGIN:VCALENDAR
VERSION:2.0
PRODID:-//Sportlomo Events//EN
CALSCALE:GREGORIAN
METHOD:REQUEST
BEGIN:VEVENT
UID:https://oldbelvedere.ie-sportlomo-3627@oldbelvedere.ie
DTSTAMP:20260420T231659Z
DTSTART:20250831T070000Z
DTEND:20250831T170000Z
SUMMARY:Family Fun Day & Ireland v Spain Watch Party
DESCRIPTION:HerSport &amp\; Belvo presents a family fun day and a time to give rugby a go.\n\nhttps://oldbelvedere.ie/custom-events/family-fun-day-ireland-v-spain-watch-party/
END:VEVENT
END:VCALENDAR